BEGIN:VCALENDAR
VERSION:2.0
PRODID:-//ChamberMaster//Event Calendar 2.0//EN
METHOD:PUBLISH
X-PUBLISHED-TTL:P3D
REFRESH-INTERVAL:P3D
CALSCALE:GREGORIAN
BEGIN:VEVENT
DTSTART:20170408T160000Z
DTEND:20170408T190000Z
X-MICROSOFT-CDO-ALLDAYEVENT:FALSE
SUMMARY:101 Market Spring Open House
DESCRIPTION:
X-ALT-DESC;FMTTYPE=text/html:
LOCATION:8980 Quantrelle Ave\, Otsego\, MN 55330
UID:e.1321.2952
SEQUENCE:3
DTSTAMP:20260421T095955Z
URL:https://business.i94westchamber.org/events/details/101-market-spring-open-house-2952
END:VEVENT

END:VCALENDAR
