BEGIN:VCALENDAR
VERSION:2.0
PRODID:-//ChamberMaster//Event Calendar 2.0//EN
METHOD:PUBLISH
X-PUBLISHED-TTL:P3D
REFRESH-INTERVAL:P3D
CALSCALE:GREGORIAN
BEGIN:VEVENT
DTSTART;VALUE=DATE:20170325
DTEND;VALUE=DATE:20170326
TRANSP:TRANSPARENT
X-MICROSOFT-CDO-ALLDAYEVENT:TRUE
SUMMARY:13th Annual Learn & Grow Expo
DESCRIPTION:The Sherburne County Master Gardeners is presenting its 13th Annual Learn and Grow Expo on March 25. It is open to the public and will include 12 informative sessions on a variety of gardening topics\, 6 "make and take" sessions\, lunch\, door prizes and a silent auction. The SCMG is an arm of the University of Minnesota Extension service and is a nonprofit organization.
X-ALT-DESC;FMTTYPE=text/html:<span style="font-family:arial\,sans-serif\;"><span style="font-size:10.0pt\;">The Sherburne County Master Gardeners is presenting its 13th Annual Learn and Grow Expo on March 25. It is open to the public and will include 12 informative sessions on a variety of gardening topics\, 6 &quot\;make and take&quot\; sessions\, lunch\, door prizes and a silent auction. The SCMG is an arm of the University of Minnesota Extension service and is a nonprofit organization. </span></span>
LOCATION:
UID:e.1321.2605
SEQUENCE:3
DTSTAMP:20260421T113037Z
URL:https://business.i94westchamber.org/events/details/13th-annual-learn-grow-expo-2605
END:VEVENT

END:VCALENDAR
