BEGIN:VCALENDAR
VERSION:2.0
PRODID:-//ChamberMaster//Event Calendar 2.0//EN
METHOD:PUBLISH
X-PUBLISHED-TTL:P3D
REFRESH-INTERVAL:P3D
CALSCALE:GREGORIAN
BEGIN:VEVENT
DTSTART:20360920T120000Z
DTEND:20360920T180000Z
X-MICROSOFT-CDO-ALLDAYEVENT:FALSE
SUMMARY:13th Annual Thumbs Up 5K & 10K Run/Walk/Bike Event
DESCRIPTION:Join us Saturday\, September 19\, 2026 for the 13th Annual Thumbs Up 5K & 10K Run/Walk/Bike Event!\n\nChoose a scenic 5K or 10K (run\, walk\, or bike) on paved trails with beautiful views of the lake and conservation area. Kids can enjoy a fun\, non-timed Youth Color Run. This family-friendly gathering celebrates mental health awareness\, reduces stigma around mental illness\, and honors those lost to suicide   all while building community through movement\, remembrance\, wellness vendors\, and kid-friendly activities.\n\nCome move forward together   one step\, one conversation\, one thumbs up at a time!
X-ALT-DESC;FMTTYPE=text/html:<h2 style="text-align:center"><span style="background-color:transparent\; font-family:arial\,sans-serif\; font-size:17pt">Join us Saturday\, September 19\, 2026 for the 13th Annual Thumbs Up 5K &amp\; 10K Run/Walk/Bike Event!</span></h2>\n\n<p style="text-align:center"><span style="background-color:transparent\; font-family:arial\,sans-serif\; font-size:10pt">Choose a scenic 5K or 10K (run\, walk\, or bike) on paved trails with beautiful views of the lake and conservation area. Kids can enjoy a fun\, non-timed Youth Color Run. This family-friendly gathering celebrates mental health awareness\, reduces stigma around mental illness\, and honors those lost to suicide &mdash\; all while building community through movement\, remembrance\, wellness vendors\, and kid-friendly activities.</span></p>\n\n<p style="text-align:center"><span style="background-color:transparent\; font-family:arial\,sans-serif\; font-size:10pt">Come move forward together &mdash\; one step\, one conversation\, one thumbs up at a time!</span></p>\n\n<div>&nbsp\;</div>\n
LOCATION:Event Location: Lake Orono Park 18599 Gary Street\, Elk River\, MN 55330 Free parking is available at the Sherburne County Fairground Parking Lot: 18335 Joplin St NW\, Elk River\, MN 55330 Please try to carpool if you are able!
UID:e.1321.8912
SEQUENCE:3
DTSTAMP:20260421T155037Z
URL:https://business.i94westchamber.org/events/details/13th-annual-thumbs-up-5k-10k-run-walk-bike-event-09-20-2036-8912
END:VEVENT

END:VCALENDAR
