BEGIN:VCALENDAR
VERSION:2.0
PRODID:-//ChamberMaster//Event Calendar 2.0//EN
METHOD:PUBLISH
X-PUBLISHED-TTL:P3D
REFRESH-INTERVAL:P3D
CALSCALE:GREGORIAN
BEGIN:VEVENT
DTSTART:20160506T230000Z
DTEND:20160507T010000Z
X-MICROSOFT-CDO-ALLDAYEVENT:FALSE
SUMMARY:1st Annual Nest Banquet
DESCRIPTION:Save the Date for Our 1st Annual Nest Banquet! \n\n\n\nFriday\, May 6th\, 2016\n\n \n\nSocial Time & Silent Auction: 6-6:30 PM\n\n \n\nDinner & Program: 6:45 PM\n\n \n\nChamber Room - Saint Michael City Hall\n\n11800 Town Center Dr NE\n\nSaint Michael\, MN 55376\n\n \n\nIndividual Tickets: $30\n\nSponsor a Table: $210 for 8 seats\n\n(Sponsors purchase tickets for an entire table and invite guest to attend)\n\n \n\nMake checks payable to YWAM-The Nest\n\nMail to The Nest Banquet\, P.O. 367 Saint Michael\, MN 55376\n\nUpon receipt of your order\, we will mail tickets with complete information.\n\n \n\nEvent Information: \n\nCristal McClain's Cell: 651-403-0146\n\ninfo@thenestmn.org\n\n \n\nBUY TICKETS NOW!
X-ALT-DESC;FMTTYPE=text/html:<h2 class="wsite-content-title" style="text-align:center\;">Save the Date for Our 1st Annual Nest Banquet!&nbsp\;</h2>\n\n<div class="paragraph" style="text-align:center\;"><br />\n<font size="4">Friday\, May 6th\, 2016<br />\n&nbsp\;<br />\nSocial Time &amp\; Silent Auction: 6-6:30 PM<br />\n&nbsp\;<br />\nDinner &amp\; Program: 6:45 PM<br />\n&nbsp\;<br />\nChamber Room - Saint Michael City Hall<br />\n<a href="https://maps.google.com/maps?q=11800+town+Center+Drive&amp\;ie=UTF-8&amp\;hq=&amp\;hnear=0x52b35d05ee046a43:0xf502989206ae7604\,11800+Town+Center+Dr\,+St+Michael\,+MN+55376&amp\;gl=us&amp\;ei=GKgvUb_qAojTyAHb2YCoBA&amp\;ved=0CDMQ8gEwAA">11800 Town Center Dr NE</a><br />\nSaint Michael\, MN 55376<br />\n&nbsp\;<br />\n<strong><font color="#3387a2">Individual Tickets: $30<br />\nSponsor a Table: $210 for 8 seats<br />\n(Sponsors purchase tickets for an entire table and invite guest to attend)</font></strong><br />\n&nbsp\;<br />\nMake checks payable to YWAM-The Nest<br />\nMail to The Nest Banquet\, P.O. 367 Saint Michael\, MN 55376<br />\nUpon receipt of your order\, we will mail tickets with complete information.<br />\n&nbsp\;<br />\nEvent Information:&nbsp\;<br />\nCristal McClain&rsquo\;s Cell: 651-403-0146<br />\n<a href="mailto:info@thenestmn.org">info@thenestmn.org</a><br />\n&#8203\;</font></div>\n\n<h2 class="wsite-content-title" style="text-align:center\;"><strong>BUY TICKETS NOW! </strong></h2>\n
LOCATION:Chamber Room - Saint Michael City Hall 11800 Town Center Dr NE Saint Michael\, MN 55376
UID:e.1321.1881
SEQUENCE:3
DTSTAMP:20260422T025007Z
URL:https://business.i94westchamber.org/events/details/1st-annual-nest-banquet-05-06-2016-1881
END:VEVENT

END:VCALENDAR
