BEGIN:VCALENDAR
VERSION:2.0
PRODID:-//ChamberMaster//Event Calendar 2.0//EN
METHOD:PUBLISH
X-PUBLISHED-TTL:P3D
REFRESH-INTERVAL:P3D
CALSCALE:GREGORIAN
BEGIN:VEVENT
DTSTART:20141202T173000Z
DTEND:20141202T190000Z
X-MICROSOFT-CDO-ALLDAYEVENT:FALSE
SUMMARY:1st Tuesday Dine\, Network\, & Learn
DESCRIPTION:Strategic Management and Entrepreneurship Professor Myles Shaver\n\nInsights into why the Twin Cities is a Headquarters Economy\n\nMyles Shaver is the Pond Family Chair in the Teaching and Advancement of Free Enterprise Principles at the Carlson School. He is a leading expert in corporate headquarters strategies\, international expansions\, mergers and acquisitions\, and investment location choice. His research on firm strategies to profitably grow is published in leading scholarly journals and he is invited to present his research at conferences and universities around the world.\n\nShaver has received numerous teaching awards for his classes on Corporate Strategy and Corporate Responsibility. Myles' longstanding commitment to\, and expertise in\, imparting strategic management knowledge was recognized when he received the Academy of Management Business Policy and Strategy Division's Irwin Outstanding Educator Award for Contributions to MBA and executive education. He also won the Ross of School of Business (University of Michigan) Distinguished PhD Alumni Award\, and a place among Poets & Quants' "World's 50 Best Business School Professors."\n\nShaver holds a BComm degree from the University of Alberta\, and a PhD in international business from the University of Michigan.
X-ALT-DESC;FMTTYPE=text/html:<p><strong>Strategic Management and Entrepreneurship Professor Myles Shaver</strong><br />\n<em>Insights into why the Twin Cities is a Headquarters Economy</em></p>\n\n<p><a href="https://carlsonschool.umn.edu/faculty/myles-shaver"><font color="#0066cc">Myles Shaver</font></a> is the Pond Family Chair in the Teaching and Advancement of Free Enterprise Principles at the Carlson School. He is a leading expert in corporate headquarters strategies\, international expansions\, mergers and acquisitions\, and investment location choice. His research on firm strategies to profitably grow is published in leading scholarly journals and he is invited to present his research at conferences and universities around the world.</p>\n\n<p>Shaver has received numerous teaching awards for his classes on Corporate Strategy and Corporate Responsibility. Myles&rsquo\; longstanding commitment to\, and expertise in\, imparting strategic management knowledge was recognized when he received the Academy of Management Business Policy and Strategy Division&rsquo\;s Irwin Outstanding Educator Award for Contributions to MBA and executive education. He also won the Ross of School of Business (University of Michigan) Distinguished PhD Alumni Award\, and a place among <em>Poets &amp\; Quants&#39\; </em>&ldquo\;World&rsquo\;s 50 Best Business School Professors.&rdquo\;</p>\n\n<p>Shaver holds a BComm degree from the University of Alberta\, and a PhD in international business from the University of Michigan.</p>\n
LOCATION:The Carlson School of Management's 1st Tuesday Speaker Series began in 1992 to provide an opportunity for alumni and friends of the Carlson School to continue their management education. The 1st Tuesday Speaker Series features top executives addressing hot topics in business and leadership. Held on the first Tuesday of every month at the McNamara Alumni Center\, the program attracts alumni and business leaders from throughout the corporate community\, and has become an attractive spot for professionals in the metropolitan area to network.
UID:e.1321.1348
SEQUENCE:3
DTSTAMP:20260424T125703Z
URL:https://business.i94westchamber.org/events/details/1st-tuesday-dine-network-learn-12-02-2014-1348
END:VEVENT

END:VCALENDAR
