BEGIN:VCALENDAR
VERSION:2.0
PRODID:-//ChamberMaster//Event Calendar 2.0//EN
METHOD:PUBLISH
X-PUBLISHED-TTL:P3D
REFRESH-INTERVAL:P3D
CALSCALE:GREGORIAN
BEGIN:VEVENT
DTSTART;VALUE=DATE:20121006
DTEND;VALUE=DATE:20121007
TRANSP:TRANSPARENT
X-MICROSOFT-CDO-ALLDAYEVENT:TRUE
SUMMARY:2 for 1 MN Permit to Carry Training - Roger's Cabela's
DESCRIPTION:Join Rusty and his training team for a two for one permit to carry class.  Two people can take the MN training for the price of one (one book issued) or the student can take the MN training and add training for the UT\, FL or AZ permit to carry.\n\n\n\nCall Laura at 219-252-1631 for info and to register.
X-ALT-DESC;FMTTYPE=text/html:Join Rusty and his training team for a two for one permit to carry class.&nbsp\; Two people can take the MN training for the price of one (one book issued)&nbsp\;or the student can take the MN training and add training for the UT\, FL or AZ permit to carry.<br />\n<br />\nCall Laura at 219-252-1631 for info and to register.&nbsp\; 
LOCATION:Rogers Cabela's
UID:e.1321.662
SEQUENCE:3
DTSTAMP:20260426T001808Z
URL:https://business.i94westchamber.org/events/details/2-for-1-mn-permit-to-carry-training-roger-s-cabela-s-10-06-2012-662
END:VEVENT

END:VCALENDAR
