BEGIN:VCALENDAR
VERSION:2.0
PRODID:-//ChamberMaster//Event Calendar 2.0//EN
METHOD:PUBLISH
X-PUBLISHED-TTL:P3D
REFRESH-INTERVAL:P3D
CALSCALE:GREGORIAN
BEGIN:VEVENT
DTSTART;VALUE=DATE:20141004
DTEND;VALUE=DATE:20141005
TRANSP:TRANSPARENT
X-MICROSOFT-CDO-ALLDAYEVENT:TRUE
SUMMARY:2 for 1 Rogers Cabela's - MN\, UT\, FL & AZ Permit to Carry Training
DESCRIPTION:Permit to Carry Training Offered at the Rogers Cabela's monthly. Join Rusty Ramirez and the Permittocarry.org staff for the MN\, UT\, FL and AZ Permit to Carry Training. Certified Minnesota\, Florida\, Utah & Arizona Instructors/NRA Certified Instructors. 45 Years of Experience of training in handguns\, self-defense and crisis intervention. What to bring: Bring the handgun you are going to carry (no single action cowboy style gun - we also rent handguns for $10.00 if you do not have a handgun to use)\, fifty rounds of factory ammo (you can purchase the ammo at Cabela's or at the range)\, driver's license and your fee for the class by cash or check. Leave your handgun secured in your car until we go to the range. We will meet on the second floor of Rogers Cabela's in the classroom at 9:00 am and class starts right after registration. We will take a one hour lunch break (Cabela's has a great cafeteria) At about 4:00 pm\, we go to the range at InRange in Monticello. We should wrap it up no later than 7:00 pm. Contact Laura at 218-252-1631 for registration and information. www.permittocarry.org
X-ALT-DESC;FMTTYPE=text/html:Permit to Carry Training Offered at the Rogers Cabela&#39\;s monthly. Join Rusty Ramirez and the Permittocarry.org staff for the MN\, UT\, FL and AZ Permit to Carry Training. Certified Minnesota\, Florida\, Utah &amp\; Arizona Instructors/NRA Certified Instructors. 45 Years of Experience of training in handguns\, self-defense and crisis intervention. What to bring: Bring the handgun you are going to carry (no single action cowboy style gun - we also rent handguns for $10.00 if you do not have a handgun to use)\, fifty rounds of factory ammo (you can purchase the ammo at Cabela&#39\;s or at the range)\, driver&#39\;s license and your fee for the class by cash or check. Leave your handgun secured in your car until we go to the range. We will meet on the second floor of Rogers Cabela&#39\;s in the classroom at 9:00 am and class starts right after registration. We will take a one hour lunch break (Cabela&#39\;s has a great cafeteria) At about 4:00 pm\, we go to the range at InRange in Monticello. We should wrap it up no later than 7:00 pm. Contact Laura at 218-252-1631 for registration and information. www.permittocarry.org
LOCATION:Rogers Cabela's
UID:e.1321.1067
SEQUENCE:3
DTSTAMP:20260424T155609Z
URL:https://business.i94westchamber.org/events/details/2-for-1-rogers-cabela-s-mn-ut-fl-az-permit-to-carry-training-10-04-2014-1067
END:VEVENT

END:VCALENDAR
