BEGIN:VCALENDAR
VERSION:2.0
PRODID:-//ChamberMaster//Event Calendar 2.0//EN
METHOD:PUBLISH
X-PUBLISHED-TTL:P3D
REFRESH-INTERVAL:P3D
CALSCALE:GREGORIAN
BEGIN:VEVENT
DTSTART:20141118T190000Z
DTEND:20141118T210000Z
X-MICROSOFT-CDO-ALLDAYEVENT:FALSE
SUMMARY:20 Minute Resume & Job Search Assistance
DESCRIPTION:In your 20-minute appointment\, a certified professional r sum  writer will work with you to make your r sum  the best it can be. The appointment will also include job search advice and an overview of interview questions. Sign up at the library when you arrive and bring your r sum .\n\nSponsored by Friends of the Rogers Library \; Presented in collaboration with Jewish Family and Children's Service of Minneapolis.
X-ALT-DESC;FMTTYPE=text/html:In your 20-minute appointment\, a certified professional r&eacute\;sum&eacute\; writer will work with you to make your r&eacute\;sum&eacute\; the best it can be. The appointment will also include job search advice and an overview of interview questions. Sign up at the library when you arrive and bring your r&eacute\;sum&eacute\;.<br />\n<em>Sponsored by Friends of the Rogers Library \; Presented in collaboration with Jewish Family and Children&#39\;s Service of Minneapolis.</em>
LOCATION:Rogers Library 21300 John Milless Drive Rogers\, MN
UID:e.1321.1269
SEQUENCE:3
DTSTAMP:20260424T141909Z
URL:https://business.i94westchamber.org/events/details/20-minute-resume-job-search-assistance-11-18-2014-1269
END:VEVENT

END:VCALENDAR
