BEGIN:VCALENDAR
VERSION:2.0
PRODID:-//ChamberMaster//Event Calendar 2.0//EN
METHOD:PUBLISH
X-PUBLISHED-TTL:P3D
REFRESH-INTERVAL:P3D
CALSCALE:GREGORIAN
BEGIN:VEVENT
DTSTART:20150120T190000Z
DTEND:20150120T210000Z
X-MICROSOFT-CDO-ALLDAYEVENT:FALSE
SUMMARY:20-Minute Résumé and Job Search Assistance
DESCRIPTION:In your 20 minute appointment\, a certified professional resume writer will work with you to make your resume the best it can be.
X-ALT-DESC;FMTTYPE=text/html:In your 20 minute appointment\, a certified professional resume writer will work with you to make your resume the best it can be.
LOCATION:Rogers Library
UID:e.1321.1377
SEQUENCE:3
DTSTAMP:20260424T113518Z
URL:https://business.i94westchamber.org/events/details/20-minute-r&#233;sum&#233;-and-job-search-assistance-01-20-2015-1377
END:VEVENT

END:VCALENDAR
