BEGIN:VCALENDAR
VERSION:2.0
PRODID:-//ChamberMaster//Event Calendar 2.0//EN
METHOD:PUBLISH
X-PUBLISHED-TTL:P3D
REFRESH-INTERVAL:P3D
CALSCALE:GREGORIAN
BEGIN:VEVENT
DTSTART:20150317T180000Z
DTEND:20150317T200000Z
X-MICROSOFT-CDO-ALLDAYEVENT:FALSE
SUMMARY:20-Minute Résumé and Job Search Assistance
DESCRIPTION:In your 20-minute appointment\, a certified professional r sum  writer will work with you to make your r sum  the best it can be. The appointment will also include job search advice and an overview of interview questions. Bring a copy of your r sum .
X-ALT-DESC;FMTTYPE=text/html:<span style="font-family:calibri\,sans-serif\;"><span style="font-size:11.0pt\;">In your 20-minute appointment\, a certified professional r&eacute\;sum&eacute\; writer will work with you to make your r&eacute\;sum&eacute\; the best it can be. The appointment will also include job search advice and an overview of interview questions. Bring a copy of your r&eacute\;sum&eacute\;.</span></span>
LOCATION:Rogers Library 21300 John Milless Dr. Rogers\, MN 55374
UID:e.1321.1483
SEQUENCE:3
DTSTAMP:20260424T083811Z
URL:https://business.i94westchamber.org/events/details/20-minute-r&#233;sum&#233;-and-job-search-assistance-03-17-2015-1483
END:VEVENT

END:VCALENDAR
