BEGIN:VCALENDAR
VERSION:2.0
PRODID:-//ChamberMaster//Event Calendar 2.0//EN
METHOD:PUBLISH
X-PUBLISHED-TTL:P3D
REFRESH-INTERVAL:P3D
CALSCALE:GREGORIAN
BEGIN:VEVENT
DTSTART:20130223T180000Z
DTEND:20130224T010000Z
X-MICROSOFT-CDO-ALLDAYEVENT:FALSE
SUMMARY:2013 Winter Bar Olympics
DESCRIPTION:Join us for our 3nd Annual Winter Olympic Games at Fritzy's Sports Bar located in Sundance Golf & Bowl.\n\n	The 2013 games will be Saturday\, February 23th\, 2013.\n\n	Opening ceremonies and pizza buffet kick off at Noon!\n\n	Cost is $230.00 for a team of six and includes chances at cash prizes\, pizza buffet and two drink tickets per person.\n\n	Events include: bowling\, darts\, bean bag toss\, obstacle course\, blackjack challenge and Survivor: The Ultimate Drinking Game. Must be 21 years or older.
X-ALT-DESC;FMTTYPE=text/html:<p style="margin: 11px 0px 0px\; line-height: 18px\; color: rgb(115\, 110\, 80)\; font-family: Arial\, Helvetica\, sans-serif\; font-size: 14.44444465637207px\; background-color: rgb(212\, 207\, 178)\;">\n	Join us for our 3nd Annual Winter Olympic Games at Fritzy&#39\;s Sports Bar located in Sundance Golf &amp\; Bowl.</p>\n<p style="margin: 11px 0px 0px\; line-height: 18px\; color: rgb(115\, 110\, 80)\; font-family: Arial\, Helvetica\, sans-serif\; font-size: 14.44444465637207px\; background-color: rgb(212\, 207\, 178)\;">\n	The 2013 games will be Saturday\, February 23th\, 2013.</p>\n<p style="margin: 11px 0px 0px\; line-height: 18px\; color: rgb(115\, 110\, 80)\; font-family: Arial\, Helvetica\, sans-serif\; font-size: 14.44444465637207px\; background-color: rgb(212\, 207\, 178)\;">\n	<span style="width: 971px\; height: 8px\; text-decoration: underline\;"><span style="width: 971px\; height: 8px\; font-size: small\;"><strong>Opening ceremonies and pizza buffet kick off at Noon!</strong></span></span></p>\n<p style="margin: 11px 0px 0px\; line-height: 18px\; color: rgb(115\, 110\, 80)\; font-family: Arial\, Helvetica\, sans-serif\; font-size: 14.44444465637207px\; background-color: rgb(212\, 207\, 178)\;">\n	<span style="width: 971px\; height: 8px\; font-family: arial\, helvetica\, sans-serif\;">Cost is $230.00 for a team of six and includes chances at cash prizes\, pizza buffet and two drink tickets per person.</span></p>\n<p style="margin: 11px 0px 0px\; line-height: 18px\; color: rgb(115\, 110\, 80)\; font-family: Arial\, Helvetica\, sans-serif\; font-size: 14.44444465637207px\; background-color: rgb(212\, 207\, 178)\;">\n	<span style="width: 971px\; height: 8px\; font-family: arial\, helvetica\, sans-serif\;">Events include: bowling\, darts\, bean bag toss\, obstacle course\, blackjack challenge and Survivor: The Ultimate Drinking Game. Must be 21 years or older.</span></p>\n
LOCATION:Fritzy's Sports Bar at Sundance Golf & Bowl 15240 113th Ave N\, Dayton\, MN 55369
UID:e.1321.755
SEQUENCE:3
DTSTAMP:20260425T191433Z
URL:https://business.i94westchamber.org/events/details/2013-winter-bar-olympics-02-23-2013-755
END:VEVENT

END:VCALENDAR
