BEGIN:VCALENDAR
VERSION:2.0
PRODID:-//ChamberMaster//Event Calendar 2.0//EN
METHOD:PUBLISH
X-PUBLISHED-TTL:P3D
REFRESH-INTERVAL:P3D
CALSCALE:GREGORIAN
BEGIN:VEVENT
DTSTART:20141230T133000Z
DTEND:20141230T150000Z
X-MICROSOFT-CDO-ALLDAYEVENT:FALSE
SUMMARY:2014 Annual Meeting
DESCRIPTION:The Wright County Economic Development Partnership is hosting their annual meeting. Michael Langley\, Greater MSP is presenting.
X-ALT-DESC;FMTTYPE=text/html:The Wright County Economic Development Partnership is hosting their annual meeting. Michael Langley\, Greater MSP is presenting.
LOCATION:Delano City Offices\, 234 2nd St N\, Delano\, MN\, US
UID:e.1321.1339
SEQUENCE:3
DTSTAMP:20260424T125141Z
URL:https://business.i94westchamber.org/events/details/2014-annual-meeting-12-30-2014-1339
END:VEVENT

END:VCALENDAR
