BEGIN:VCALENDAR
VERSION:2.0
PRODID:-//ChamberMaster//Event Calendar 2.0//EN
METHOD:PUBLISH
X-PUBLISHED-TTL:P3D
REFRESH-INTERVAL:P3D
CALSCALE:GREGORIAN
BEGIN:VEVENT
DTSTART:20150430T210000Z
DTEND:20150501T000000Z
X-MICROSOFT-CDO-ALLDAYEVENT:FALSE
SUMMARY:2015 Rogers Empty Bowls
DESCRIPTION:The annual Rogers Empty Bowls event to benefit CROSS will take place 4-7 p.m. Thursday\, April 30\, 2015 at the Wellstead of Rogers\, located at 20600 South Diamond Lake Road\, Rogers.Suggested donation is $10 per adult\, $5 per child with a family maximum of $25. An opportunity to purchase select handmade bowls are available for an additional donation. Food and entertainment provided.\n\n\n\nEmpty Bowls raises awareness about hunger issues\, educates and provides opportunities for children and adults to participate in community service\, and raises funds for CROSS Services.\n\n\n\nCROSS continues to seek community sponsors for the 10th annual Maple Grove Empty Bowls event. Businesses and organizations interested in contributing can contact Elizabeth Johnson elizabeth@crossservices.org at 763-425-1050.\n\n\n\nCROSS has been operating for 38 years and serves more than 600 families each month at the Rogers location. In addition\, through partnerships and outreach\, CROSS provides food to more than 5\,000 people each month.
X-ALT-DESC;FMTTYPE=text/html:The annual Rogers&nbsp\;Empty Bowls event to benefit CROSS will take place 4-7 p.m. Thursday\, April 30\, 2015 at the Wellstead of Rogers\, located at&nbsp\;20600 South Diamond Lake Road\, Rogers.Suggested donation is $10 per adult\, $5 per child with a family maximum of $25. An opportunity to purchase select handmade bowls are available for an additional donation. Food and entertainment provided.<br />\n<br />\nEmpty Bowls raises awareness about hunger issues\, educates and provides opportunities for children and adults to participate in community service\, and raises funds for CROSS Services.<br />\n<br />\nCROSS continues to seek community sponsors for the 10th annual Maple Grove Empty Bowls event. Businesses and organizations interested in contributing can contact Elizabeth Johnson elizabeth@crossservices.org at 763-425-1050.<br />\n<br />\nCROSS has been operating for 38 years and serves more than 600 families each month at the Rogers location. In addition\, through partnerships and outreach\, CROSS provides food to more than 5\,000 people each month.
LOCATION:Wellstead of Rogers 20600 South Diamond Lake Road Rogers\, MN 55374
UID:e.1321.1443
SEQUENCE:3
DTSTAMP:20260422T195450Z
URL:https://business.i94westchamber.org/events/details/2015-rogers-empty-bowls-04-30-2015-1443
END:VEVENT

END:VCALENDAR
