BEGIN:VCALENDAR
VERSION:2.0
PRODID:-//ChamberMaster//Event Calendar 2.0//EN
METHOD:PUBLISH
X-PUBLISHED-TTL:P3D
REFRESH-INTERVAL:P3D
CALSCALE:GREGORIAN
BEGIN:VEVENT
DTSTART:20161202T000000Z
DTEND:20161202T030000Z
X-MICROSOFT-CDO-ALLDAYEVENT:FALSE
SUMMARY:2016 Holiday Market & Food Drive
DESCRIPTION:Join us for an evening of fun and get your holiday shopping done!\n\n \n\nThe 2016 Holiday Market & Food Drive will be collecting non-perishable food items for families in need. We will offer handmade items\, local vendors\, complimentary wine while you shop. Door prizes and free massage from HealthSource of Albertville!\n\n \n\nFor every donation\, guests will recive a additional entry into the door prize.\n\n \nVendors:\n\n\n	A Monday In May (Home Decor)\n	Gray Duck Designs (Home Decor)\n	iheartgiggles Boutique\n	Thirty-One Gifts\n	LuLuRoe -Brenna Rattai\n	Lip Sense\n	ZoChic Traveling Boutique\n	libbe lane (natural Products)
X-ALT-DESC;FMTTYPE=text/html:<div><strong>Join us for an evening of fun and get your holiday shopping done!</strong><br />\n&nbsp\;</div>\n\n<div>The 2016 Holiday Market &amp\; Food Drive will be collecting non-perishable food items for families in need. We will offer handmade items\, local vendors\, complimentary wine while you shop. Door prizes and free massage from HealthSource of Albertville!</div>\n\n<div>&nbsp\;</div>\n\n<div>For every donation\, guests will recive a additional entry into the door prize.<br />\n&nbsp\;\n<div>Vendors:</div>\n\n<ul>\n	<li>A Monday In May (Home Decor)</li>\n	<li>Gray Duck Designs (Home Decor)</li>\n	<li>iheartgiggles Boutique</li>\n	<li>Thirty-One Gifts</li>\n	<li>LuLuRoe -Brenna Rattai</li>\n	<li>Lip Sense</li>\n	<li>ZoChic Traveling Boutique</li>\n	<li>libbe lane (natural Products)</li>\n</ul>\n</div>\n
LOCATION:Holiday Inn Mpls NW Elk River 9200 Quaday Ave NE Otsego\, MN 55330
UID:e.1321.2573
SEQUENCE:3
DTSTAMP:20260421T155831Z
URL:https://business.i94westchamber.org/events/details/2016-holiday-market-food-drive-2573
END:VEVENT

END:VCALENDAR
