BEGIN:VCALENDAR
VERSION:2.0
PRODID:-//ChamberMaster//Event Calendar 2.0//EN
METHOD:PUBLISH
X-PUBLISHED-TTL:P3D
REFRESH-INTERVAL:P3D
CALSCALE:GREGORIAN
BEGIN:VEVENT
DTSTART:20170421T133000Z
DTEND:20170421T183000Z
X-MICROSOFT-CDO-ALLDAYEVENT:FALSE
SUMMARY:2017 Community Economic Development Symposium
DESCRIPTION:The Hamline School of Business presents the 2017 Community Economic Development Symposium. Titled "Itasca to the Bayou   Economic Development along the Mississippi"\, you'll experience a powerful convergence of experts who have extensive real-world practice working and success in economic development along the Mississippi.  Featuring keynote speakers Neel Kashkari\, President of the Federal Reserve Bank in Minneapolis and Lorna Bourg\, CEO of the southern Mutual Help Association.\n\nPanelists with experience in local and state economic development will address successful housing and mixed-use development projects near the Mississippi River.
X-ALT-DESC;FMTTYPE=text/html:<span style="letter-spacing:.55pt\;"><span style="color:#5C5C5C\;"><span style="font-family:georgia\,serif\;"><span style="font-size:11.5pt\;">The Hamline School of Business presents the 2017 Community Economic Development Symposium. Titled &ldquo\;Itasca to the Bayou &ndash\; Economic Development along the Mississippi&rdquo\;\, you&rsquo\;ll experience a powerful convergence of experts who have extensive real-world practice working and&nbsp\;success in economic development along the Mississippi.&nbsp\; Featuring keynote speakers Neel Kashkari\, President of the Federal Reserve Bank in Minneapolis and Lorna Bourg\, CEO of the southern Mutual Help Association.<br />\nPanelists with experience&nbsp\;in local and state economic development will address successful housing and mixed-use development projects near the Mississippi River.</span></span></span></span><br />\n<br />\n&nbsp\;<br />\n<br />\n<br />\n&nbsp\;
LOCATION:Hamline's Saint Paul Campus\, Anderson Center
UID:e.1321.2929
SEQUENCE:3
DTSTAMP:20260421T154221Z
URL:https://business.i94westchamber.org/events/details/2017-community-economic-development-symposium-2929
END:VEVENT

END:VCALENDAR
