BEGIN:VCALENDAR
VERSION:2.0
PRODID:-//ChamberMaster//Event Calendar 2.0//EN
METHOD:PUBLISH
X-PUBLISHED-TTL:P3D
REFRESH-INTERVAL:P3D
CALSCALE:GREGORIAN
BEGIN:VEVENT
DTSTART:20141025T143000Z
DTEND:20141025T170000Z
X-MICROSOFT-CDO-ALLDAYEVENT:FALSE
SUMMARY:22nd Annual Spooktacular PDC Olympics
DESCRIPTION:When: Saturday\, October 25\, 2014\n\nWhere: Fieldstone Elementary School\n\nTime: 9:30 am registration\, 10:00 Games Begin!\n\n\n\nGames: We will be scaring up some spine chilling games along with your fangtastic favorites! There will also be Terrorific Bingo\, Cat Walk\, Magical Face Painting\,\n\nand the Service Dogs may be on hand waiting for your attention. Also\, we will have the Photo Booth again that will hold up to 12 people (so you can take your memories home that day)!\n\n\n\nIf you want to scare up a costume\, we're dying to see it!\n\n\n\nVisit our web page at www.stmawt.org and click on Events (2nd Trimester) to print off a copy of the registration form.
X-ALT-DESC;FMTTYPE=text/html:<span class="fsl">When: Saturday\, October 25\, 2014<br />\nWhere: Fieldstone Elementary School<br />\nTime: 9:30 am registration\, 10:00 Games Begin!<br />\n<br />\nGames: We will be scaring up some spine chilling games along with your fangtastic favorites! There will also be Terrorific Bingo\, Cat Walk\, Magical Face Painting\,<br />\nand the Service Dogs may be on hand waiting for your attention. Also\, we will have the Photo Booth again that will hold up to 12 people (so you can take your memories home that day)!<br />\n<br />\nIf you want to scare up a costume\, we&rsquo\;re dying to see it!<br />\n<br />\nVisit our web page at <a href="http://l.facebook.com/l.php?u=http%3A%2F%2Fwww.stmawt.org%2F&amp\;h=6AQFnw73c&amp\;enc=AZNWFgLwFWR_fok2kEUuSQvzkqq6VG8VpoIoITl_w_OmBHO1GVG_JIhpqEtCw_CEV5M&amp\;s=1" rel="nofollow nofollow" target="_blank"><font color="#0066cc">www.stmawt.org</font></a> and click on Events (2nd Trimester) to print off a copy of the registration form.</span>
LOCATION:
UID:e.1321.1225
SEQUENCE:3
DTSTAMP:20260424T155553Z
URL:https://business.i94westchamber.org/events/details/22nd-annual-spooktacular-pdc-olympics-10-25-2014-1225
END:VEVENT

END:VCALENDAR
