BEGIN:VCALENDAR
VERSION:2.0
PRODID:-//ChamberMaster//Event Calendar 2.0//EN
METHOD:PUBLISH
X-PUBLISHED-TTL:P3D
REFRESH-INTERVAL:P3D
CALSCALE:GREGORIAN
BEGIN:VEVENT
DTSTART;VALUE=DATE:20140817
DTEND;VALUE=DATE:20140818
TRANSP:TRANSPARENT
X-MICROSOFT-CDO-ALLDAYEVENT:TRUE
SUMMARY:3rd Annual Dojo Karate Charity Golf Tournament
DESCRIPTION:This is our third year teaming up with The Autism Society of Minnesota (AuSM). All proceeds will go to AuSm to help benefit people with Autism. \n\n\n\nThe Autism Society of Minnesota (AuSM) is an organization of\n\nfamilies\, educators\, care givers and professionals committed to\n\nsupporting individuals with autism spectrum disorders. The\n\nfinancial and volunteer support they receive from supporters\n\nlike you is funneled into programs that directly benefits\n\nindividuals and families in Minnesota.\n\nEducational Development\n\n- Workshops and lectures throughout the year\n\n- Annual Minnesota Autism conference\n\n- Annual Symposium for educators\n\nSocial Opportunities\n\n- Support Groups\n\n- Camps\, including residential and day camps\n\n- Eagle's nest Social Skills groups\n\n- Adult Autism Weekend Retreat\n\n- Mental Health Clinic\n\n- Parent Advocate\n\nAdvocacy & Outreach\n\n- Steps of Hope Support Grants\n\n- Policy initiatives at the Minnesota Legislature\n\n- Autism Awareness campaigns\n\nInformation & Referral Services\n\n- Referrals for community Services\n\n- Library with over 2000 autism-related items\n\n- Resource Directory\n\n- Employment Guide
X-ALT-DESC;FMTTYPE=text/html:This is our third year teaming up with The Autism Society of Minnesota (AuSM). All proceeds will go to AuSm to help benefit people with Autism.&nbsp\;<br />\n<br />\nThe Autism Society of Minnesota (AuSM) is an organization of<br />\nfamilies\, educators\, care givers and professionals committed to<br />\nsupporting individuals with autism spectrum disorders. The<br />\nfinancial and volunteer support they receive from supporters<br />\nlike you is funneled into programs that directly benefits<br />\nindividuals and families in Minnesota.<br />\n<u>Educational Development</u><br />\n- Workshops and lectures throughout the year<br />\n- Annual Minnesota Autism conference<br />\n- Annual Symposium for educators<br />\n<u>Social Opportunities</u><br />\n- Support Groups<br />\n- Camps\, including residential and day camps<br />\n- Eagle&rsquo\;s nest Social Skills groups<br />\n- Adult Autism Weekend Retreat<br />\n- Mental Health Clinic<br />\n- Parent Advocate<br />\n<u>Advocacy &amp\; Outreach</u><br />\n- Steps of Hope Support Grants<br />\n- Policy initiatives at the Minnesota Legislature<br />\n- Autism Awareness campaigns<br />\n<u>Information &amp\; Referral Services</u><br />\n- Referrals for community Services<br />\n- Library with over 2000 autism-related items<br />\n- Resource Directory<br />\n- Employment Guide
LOCATION:Riverwood National Golf Course
UID:e.1321.1164
SEQUENCE:3
DTSTAMP:20260424T182156Z
URL:https://business.i94westchamber.org/events/details/3rd-annual-dojo-karate-charity-golf-tournament-08-17-2014-1164
END:VEVENT

END:VCALENDAR
