BEGIN:VCALENDAR
VERSION:2.0
PRODID:-//ChamberMaster//Event Calendar 2.0//EN
METHOD:PUBLISH
X-PUBLISHED-TTL:P3D
REFRESH-INTERVAL:P3D
CALSCALE:GREGORIAN
BEGIN:VEVENT
DTSTART:20170203T230000Z
DTEND:20170204T013000Z
X-MICROSOFT-CDO-ALLDAYEVENT:FALSE
SUMMARY:3rd Annual Ladies Night
DESCRIPTION:HealthSource of Albertville will be hosting our third annual Ladies Night Friday February 3rd from 5:00pm-7:30pm. This is a wonderful evening of shopping\, giveaways\, raffle prizes\, and celebrating women. This year\, one of our lucky guest's will walk away with a $100 GRAND PRIZE CASH GIVE AWAY!!!\n\n\n\nWe are pleased to announce that the beneficiary of our ticket sales will be Family Youth Community Connections. FYCC is a 501 (c) 3 nonprofit organization that is accessible\, affordable\, and gives quality programs to kids in our community. In partnership with parents and our community members\, they offer programs such as providing beds for local kids in need\, breakfast for students who would normally go without\, Reading in the Park\, Family Bingo\, Open Streets events and so much more!\n\n\n\nHope to see you there!
X-ALT-DESC;FMTTYPE=text/html:<span style="color:#4B4F56\;"><span style="font-family:helvetica\,sans-serif\;"><span style="font-size:10.5pt\;">HealthSource of Albertville will be hosting our third annual Ladies Night Friday February 3rd from 5:00pm-7:30pm. This is a wonderful evening of shopping\, giveaways\, raffle prizes\, and celebrating women. This year\, one of our lucky guest&#39\;s will walk away with a $100 GRAND PRIZE CASH GIVE AWAY!!!<br />\n<br />\nWe are pleased to announce that the beneficiary of our ticket sales will be Family Youth Community Connections. FYCC is a 501 (c) 3 nonprofit organization that is accessible\, affordable\, and gives quality programs to kids in our community. In partnership with parents and our community members\, they offer programs such as providing beds for local kids in need\, breakfast for students who would normally go without\, Reading in the Park\, Family Bingo\, Open Streets events and so much more!<br />\n<br />\nHope to see you there!</span></span></span><br />\n<br />\n&nbsp\;<br />\n<br />\n&nbsp\;
LOCATION:HealthSource of Albertville
UID:e.1321.2590
SEQUENCE:3
DTSTAMP:20260421T143804Z
URL:https://business.i94westchamber.org/events/details/3rd-annual-ladies-night-2590
END:VEVENT

END:VCALENDAR
