BEGIN:VCALENDAR
VERSION:2.0
PRODID:-//ChamberMaster//Event Calendar 2.0//EN
METHOD:PUBLISH
X-PUBLISHED-TTL:P3D
REFRESH-INTERVAL:P3D
CALSCALE:GREGORIAN
BEGIN:VEVENT
DTSTART:20161022T003000Z
DTEND:20161022T043000Z
X-MICROSOFT-CDO-ALLDAYEVENT:FALSE
SUMMARY:60th Anniversary Party for Medina Entertainment Center
DESCRIPTION:We're turning 60 and we want to celebrate with all of our favorite people!
X-ALT-DESC;FMTTYPE=text/html:<span class="_4n-j fsl">We&#39\;re turning 60 and we want to celebrate with all of our favorite people!</span>
LOCATION:Medina Entertainment Center 500 Highway 55\, Medina\, Minnesota 55340
UID:e.1321.2474
SEQUENCE:3
DTSTAMP:20260421T190530Z
URL:https://business.i94westchamber.org/events/details/60th-anniversary-party-for-medina-entertainment-center-2474
END:VEVENT

END:VCALENDAR
