BEGIN:VCALENDAR
VERSION:2.0
PRODID:-//ChamberMaster//Event Calendar 2.0//EN
METHOD:PUBLISH
X-PUBLISHED-TTL:P3D
REFRESH-INTERVAL:P3D
CALSCALE:GREGORIAN
BEGIN:VEVENT
DTSTART:20160223T210000Z
DTEND:20160224T030000Z
X-MICROSOFT-CDO-ALLDAYEVENT:FALSE
SUMMARY:6th Minnesota Entrepreneur Kick-off
DESCRIPTION:Local business owners and leaders gather at the 6th annual Minnesota Entrepreneur Kick-off to discuss how to get more value from their 2016 marketing dollars. Among the topics to be discussed: - What is earned media and how do you capture it? -The entrepreneurial Pay Per Interview publicity approach - The best times to use publicity\, advertising and other key promotional channels. - Why you should view reporters and producers as an inexpensive extension of your national sales force. - The importance of customizing your approach. - How to routinely extend the reach of each media placement.
X-ALT-DESC;FMTTYPE=text/html:Local business owners and leaders gather at the 6th annual Minnesota Entrepreneur Kick-off to discuss how to get more value from their 2016 marketing dollars. Among the topics to be discussed: - What is earned media and how do you capture it? -The entrepreneurial Pay Per Interview publicity approach - The best times to use publicity\, advertising and other key promotional channels. - Why you should view reporters and producers as an inexpensive extension of your national sales force. - The importance of customizing your approach. - How to routinely extend the reach of each media placement.
LOCATION:Fort Snelling\, 201 Bloomington Road\, Fort Snelling\, MN 55111
UID:e.1321.1858
SEQUENCE:3
DTSTAMP:20260422T053644Z
URL:https://business.i94westchamber.org/events/details/6th-minnesota-entrepreneur-kick-off-02-23-2016-1858
END:VEVENT

END:VCALENDAR
