BEGIN:VCALENDAR
VERSION:2.0
PRODID:-//ChamberMaster//Event Calendar 2.0//EN
METHOD:PUBLISH
X-PUBLISHED-TTL:P3D
REFRESH-INTERVAL:P3D
CALSCALE:GREGORIAN
BEGIN:VEVENT
DTSTART:20161001T143000Z
DTEND:20161001T170000Z
X-MICROSOFT-CDO-ALLDAYEVENT:FALSE
SUMMARY:7th Annual Timber Dash 5k Run & Walk
DESCRIPTION:Registration for the 7th Annual Timber Dash 5K Trail Run + Walk is officially open! Please join us and bring your family for this beautiful trail run at Lake Maria State Park on October 1\, 2016.\n\nProceeds from this event benefit the Crisis Nursery serving Wright County\, a family support program under the direction of Kindred Family Services. We are committed to prevent child abuse and neglect and to support\, strengthen\, and empower children and families to achieve lifelong success.\n\n \n\nOctober 1\, 2016 ~ Lake Maria State Park\, Monticello\n\nKid's Fun Run: 9:30am                 5K: 10am\n\n \n\nVolunteer Opportunities are available! Timber Dash would not be possible without volunteers! Whether you want to volunteer by yourself or as a family or group\, please join us! Volunteers will receive a free event T-shirt to wear at the Timber Dash and beyond. Food and beverages provided for all of our volunteers. Plus\, you will have fun and the satisfaction of knowing you are helping to raise money for families in your community! For more information\, email Abby @ adahl@nexus-kff.org
X-ALT-DESC;FMTTYPE=text/html:<span style="color:#333333\;"><span style="font-family:arial\,sans-serif\;">Registration for the <strong><span style="font-family:arial\,sans-serif\;">7th Annual Timber Dash</span></strong> 5K Trail Run + Walk is officially open! Please join us and bring your family for this beautiful trail run at Lake Maria State Park on October 1\, 2016.</span></span><br />\n<span style="color:#333333\;"><span style="font-family:arial\,sans-serif\;">Proceeds from this event benefit the <a href="https://bbox.blackbaudhosting.com/webforms/service/page.redir?target=https%3a%2f%2fprotect-us.mimecast.com%2fs%2f4QwrBgIVJm5iZ&amp\;srcid=1609076&amp\;srctid=1&amp\;erid=110201215&amp\;trid=9f4e8196-dab8-4047-911b-7a2d1989761f">Crisis Nursery serving Wright County</a>\, a family support program under the direction of Kindred Family Services. We are committed to prevent child abuse and neglect and to support\, strengthen\, and empower children and families to achieve lifelong success.</span></span><br />\n&nbsp\;<br />\n<span style="color:#333333\;"><span style="font-family:arial\,sans-serif\;"><span style="font-size:18.0pt\;">October 1\, 2016 ~&nbsp\;Lake Maria State Park\, Monticello</span></span></span><br />\n<strong><span style="color:#333333\;"><span style="font-family:arial\,sans-serif\;"><span style="font-size:15.0pt\;">Kid&#39\;s Fun Run: 9:30am&nbsp\;&nbsp\;&nbsp\;&nbsp\;&nbsp\;&nbsp\;&nbsp\;&nbsp\;&nbsp\;&nbsp\;&nbsp\;&nbsp\;&nbsp\;&nbsp\;&nbsp\;&nbsp\;&nbsp\;5K: 10am</span></span></span></strong><br />\n&nbsp\;<br />\n<strong><span style="color:#333333\;"><span style="font-family:arial\,sans-serif\;"><span style="font-size:12.0pt\;">Volunteer&nbsp\;Opportunities are available!</span></span></span></strong>&#12288\;<span style="color:#333333\;"><span style="font-family:arial\,sans-serif\;"><span style="font-size:12.0pt\;">Timber Dash would not be possible without volunteers! Whether you want to volunteer by yourself or as a family or group\, please join us! Volunteers will receive a free event T-shirt to wear at the Timber Dash and beyond. Food and beverages provided for all of our volunteers. Plus\, you will have fun and the satisfaction of knowing you are helping to raise money for families in your community!</span></span></span>&#12288\;<span style="color:#333333\;"><span style="font-family:arial\,sans-serif\;"><span style="font-size:12.0pt\;">For more information\, email Abby @ <a href="mailto:adahl@nexus-kff.org">adahl@nexus-kff.org</a> </span></span></span>
LOCATION:
UID:e.1321.1979
SEQUENCE:3
DTSTAMP:20260421T185923Z
URL:https://business.i94westchamber.org/events/details/7th-annual-timber-dash-5k-run-walk-10-01-2016-1979
END:VEVENT

END:VCALENDAR
