BEGIN:VCALENDAR
VERSION:2.0
PRODID:-//ChamberMaster//Event Calendar 2.0//EN
METHOD:PUBLISH
X-PUBLISHED-TTL:P3D
REFRESH-INTERVAL:P3D
CALSCALE:GREGORIAN
BEGIN:VEVENT
DTSTART:20141202T010000Z
DTEND:20141202T021500Z
X-MICROSOFT-CDO-ALLDAYEVENT:FALSE
SUMMARY:A Blue Christmas Service of Solace and Comfort
DESCRIPTION:If the holidays get you depressed or if you're still grieving over the loss of a loved one\, this worship service will focus on hope\, remembrance of deceased loved ones including children and solace. Special music will be played along with special uplifting hymns. Candles will be lit in memory of deceased loved ones and an uplifting sermon will be given. All are welcome regardless of church affiliation or denomination.
X-ALT-DESC;FMTTYPE=text/html:If the holidays get you depressed or if you&#39\;re still grieving over the loss of a loved one\, this worship service will focus on hope\, remembrance of deceased loved ones including children and solace. Special music will be played along with special uplifting hymns. Candles will be lit in memory of deceased loved ones and an uplifting sermon will be given. All are welcome regardless of church affiliation or denomination.
LOCATION:Holy Trinity Episcopal Church 1326 4th Street NW Elk River
UID:e.1321.1345
SEQUENCE:3
DTSTAMP:20260424T125551Z
URL:https://business.i94westchamber.org/events/details/a-blue-christmas-service-of-solace-and-comfort-12-01-2014-1345
END:VEVENT

END:VCALENDAR
