BEGIN:VCALENDAR
VERSION:2.0
PRODID:-//ChamberMaster//Event Calendar 2.0//EN
METHOD:PUBLISH
X-PUBLISHED-TTL:P3D
REFRESH-INTERVAL:P3D
CALSCALE:GREGORIAN
BEGIN:VEVENT
DTSTART:20151208T010000Z
DTEND:20151208T021000Z
X-MICROSOFT-CDO-ALLDAYEVENT:FALSE
SUMMARY:A Blue Christmas Service of Solace and Comfort
DESCRIPTION:Are you depressed or despondent? Have you lost a baby or a parent recently? Perhaps you are having financial difficulties or you have lost your job. You certainly aren't looking forward to the holidays. Come to this special service designed to give you hope\, solace and comfort. Special prayers will be said and you will be able to light a candle in memory of a loved one or pray for relief from a certain situation.
X-ALT-DESC;FMTTYPE=text/html:Are you depressed or despondent? Have you lost a baby or a parent recently? Perhaps you are having financial difficulties or you have lost your job. You certainly aren&#39\;t looking forward to the holidays. Come to this special service designed to give you hope\, solace and comfort. Special prayers will be said and you will be able to light a candle in memory of a loved one or pray for relief from a certain situation.
LOCATION:Holy Trinity Episcopal Church 1326 4th Street NW Elk River\, MN 55330
UID:e.1321.1820
SEQUENCE:3
DTSTAMP:20260422T083120Z
URL:https://business.i94westchamber.org/events/details/a-blue-christmas-service-of-solace-and-comfort-12-07-2015-1820
END:VEVENT

END:VCALENDAR
