BEGIN:VCALENDAR
VERSION:2.0
PRODID:-//ChamberMaster//Event Calendar 2.0//EN
METHOD:PUBLISH
X-PUBLISHED-TTL:P3D
REFRESH-INTERVAL:P3D
CALSCALE:GREGORIAN
BEGIN:VEVENT
DTSTART:20161206T010000Z
DTEND:20161206T021500Z
X-MICROSOFT-CDO-ALLDAYEVENT:FALSE
SUMMARY:A Blue Christmas Service of Solace and Comfort
DESCRIPTION:Are you dreading the holidays because of a recent death of a child or other family member? Perhaps you just lost your job or your kids or grandkids lost their jobs. \n\nAre you dying of cancer or is a member of your family dealing with a serious disease or illness? Come and receive a message of hope\, solace and comfort. Take an hour to think\, pray and reflect. It will help you cope with all the holiday festivities. The Angel of Hope housed at Holy Trinity is a symbol of hope and is part of an international movement of peace for many young parents. The entire community is invited to participate. All are invited!
X-ALT-DESC;FMTTYPE=text/html:<span style="color:#4B4F56"><span style="font-family:helvetica\,sans-serif"><span style="font-size:10.5pt">Are you dreading the holidays because of a recent death of a child or other family member? Perhaps you just lost your job or your kids or grandkids lost their jobs.&nbsp\;</span></span></span><br />\n<span style="color:#4B4F56"><span style="font-family:helvetica\,sans-serif"><span style="font-size:10.5pt">Are you dying of cancer or is a member of your family dealing with a serious disease or illness? Come and receive a message of hope\, solace and comfort. Take an hour to think\, pray and reflect. It will help you cope with all the holiday festivities. The Angel of Hope housed at Holy Trinity is a symbol of hope and is part of an international movement of peace for many young parents. The entire community is invited to participate. All are invited!</span></span></span>
LOCATION:Holy Trinity Episcopal Church 1326 4th St. NW Elk River\, MN 55330
UID:e.1321.2529
SEQUENCE:3
DTSTAMP:20260421T155831Z
URL:https://business.i94westchamber.org/events/details/a-blue-christmas-service-of-solace-and-comfort-2529
END:VEVENT

END:VCALENDAR
