BEGIN:VCALENDAR
VERSION:2.0
PRODID:-//ChamberMaster//Event Calendar 2.0//EN
METHOD:PUBLISH
X-PUBLISHED-TTL:P3D
REFRESH-INTERVAL:P3D
CALSCALE:GREGORIAN
BEGIN:VEVENT
DTSTART:20161112T160000Z
DTEND:20161113T000000Z
X-MICROSOFT-CDO-ALLDAYEVENT:FALSE
SUMMARY:A Hamel Holiday
DESCRIPTION:Please join the shops of Hamel for a Special Day of Holiday Cheer!\n\nArt 2 Heart Gift Shop\n\nBuzzella Massage\n\nChloe's Attic\n\nPeacemaking Massage\n\nTwisted Root\n\nUrban Eve Salon & Boutique\n\nUrban Market
X-ALT-DESC;FMTTYPE=text/html:Please join the shops of Hamel for a Special Day of Holiday Cheer!<br />\nArt 2 Heart Gift Shop<br />\nBuzzella Massage<br />\nChloe&#39\;s Attic<br />\nPeacemaking Massage<br />\nTwisted Root<br />\nUrban Eve Salon &amp\; Boutique<br />\nUrban Market
LOCATION:Uptown Hamel
UID:e.1321.2502
SEQUENCE:3
DTSTAMP:20260421T183902Z
URL:https://business.i94westchamber.org/events/details/a-hamel-holiday-2502
END:VEVENT

END:VCALENDAR
