BEGIN:VCALENDAR
VERSION:2.0
PRODID:-//ChamberMaster//Event Calendar 2.0//EN
METHOD:PUBLISH
X-PUBLISHED-TTL:P3D
REFRESH-INTERVAL:P3D
CALSCALE:GREGORIAN
BEGIN:VEVENT
DTSTART:20140412T140000Z
DTEND:20140412T170000Z
X-MICROSOFT-CDO-ALLDAYEVENT:FALSE
SUMMARY:A Lenten Retreat
DESCRIPTION:Come and join us on Saturday\, April 12\, 2014\, for a Special Lenten Retreat. There will be quiet time for prayer\, meditation and reflection. There will also be special readings related to scripture about Christ's crucifixion and the events of Holy Week. This Retreat is open to everyone regardless of denomination or church affiliation. Prepare yourself spiritually for the holiest week of the year and for Easter.
X-ALT-DESC;FMTTYPE=text/html:Come and join us on Saturday\, April 12\, 2014\, for a Special Lenten Retreat. There will be quiet time for prayer\, meditation and reflection. There will also be special readings related to scripture about Christ&#39\;s crucifixion and the events of Holy Week. This Retreat is open to everyone regardless of denomination or church affiliation. Prepare yourself spiritually for the holiest week of the year and for Easter.
LOCATION:Holy Trinity Episcopal Church\, 1326 4th Street NW\, Elk River.
UID:e.1321.1101
SEQUENCE:3
DTSTAMP:20260424T233619Z
URL:https://business.i94westchamber.org/events/details/a-lenten-retreat-04-12-2014-1101
END:VEVENT

END:VCALENDAR
