BEGIN:VCALENDAR
VERSION:2.0
PRODID:-//ChamberMaster//Event Calendar 2.0//EN
METHOD:PUBLISH
X-PUBLISHED-TTL:P3D
REFRESH-INTERVAL:P3D
CALSCALE:GREGORIAN
BEGIN:VEVENT
DTSTART:20161205T000000Z
DTEND:20161205T010000Z
X-MICROSOFT-CDO-ALLDAYEVENT:FALSE
SUMMARY:A Swingin Christmas
DESCRIPTION:"A Swingin' Christmas" featuring Kim Fragodt and Bend in the River Big Band\n\n\n\nTake a break from shopping and the "Hustle & Bustle" of the season.\n\nBring your entire family\, relax & enjoy in the spirit of the holidays!\n\nMedina Living and Medina Entertainment Center Presents "A Swingin' Christmas" featuring Kim Fragodt and Bend in the River Big Band. Family friendly\, bells welcome for audience participation!\n\n100% of proceeds benefit Timber Bay.
X-ALT-DESC;FMTTYPE=text/html:<h1 class="listing-hero-title" data-automation="listing-title">&quot\;A Swingin&#39\; Christmas&quot\; featuring Kim Fragodt and Bend in the River Big Band</h1>\n\n<div class="js-xd-read-more-toggle-view read-more__toggle-view">\n<div class="js-xd-read-more-contents l-mar-top-3">\n<p><span>Take a break from shopping and the &quot\;Hustle &amp\; Bustle&quot\; of the season.</span></p>\n\n<p><span>Bring your entire family\, relax &amp\; enjoy in the spirit of the </span><span>holidays</span><span>!</span></p>\n\n<p><span><em>Medina Living</em> and Medina Entertainment Center Presents &quot\;A Swingin&#39\; Christmas&quot\; featuring Kim Fragodt and Bend in the River Big Band. Family friendly\, bells welcome for audience participation!</span></p>\n\n<p><span>100% of proceeds benefit Timber Bay.</span></p>\n</div>\n</div>\n
LOCATION:Medina Entertainment Center 500 Highway 55 Medina\, MN 55340
UID:e.1321.2574
SEQUENCE:3
DTSTAMP:20260421T171845Z
URL:https://business.i94westchamber.org/events/details/a-swingin-christmas-2574
END:VEVENT

END:VCALENDAR
