BEGIN:VCALENDAR
VERSION:2.0
PRODID:-//ChamberMaster//Event Calendar 2.0//EN
METHOD:PUBLISH
X-PUBLISHED-TTL:P3D
REFRESH-INTERVAL:P3D
CALSCALE:GREGORIAN
BEGIN:VEVENT
DTSTART:20140804T140000Z
DTEND:20140804T173000Z
X-MICROSOFT-CDO-ALLDAYEVENT:FALSE
SUMMARY:Aging in Place...Resources to Help
DESCRIPTION:Workshop for Seniors & for those caring for a senior loved one such as a spouse\, family member\, or friend. Don't miss this opportunity to hear experts share resources to help "Age in Place". Tips will be given: to strengthen your mind and memery\; strengthen your body to prevent falls and keep moving\; and in-home technology to help maintain independence. Respite Care available upon request. Event provided by Guardian Angels\, Faith in Action\, Guardian Angels & Elim Home Care & Hospice\, Elk River Activity Center\, and Monticello Senior Center
X-ALT-DESC;FMTTYPE=text/html:Workshop for Seniors &amp\; for those caring for a senior loved one such as a spouse\, family member\, or friend. Don&#39\;t miss this opportunity to hear experts share resources to help &quot\;Age in Place&quot\;. Tips will be given: to strengthen your mind and memery\; strengthen your body to prevent falls and keep moving\; and in-home technology to help maintain independence. Respite Care available upon request. Event provided by Guardian Angels\, Faith in Action\, Guardian Angels &amp\; Elim Home Care &amp\; Hospice\, Elk River Activity Center\, and Monticello Senior Center
LOCATION:Monticello Community Center- Bridge Room\, 505 Walnut Street\, Monticello
UID:e.1321.1161
SEQUENCE:3
DTSTAMP:20260424T181250Z
URL:https://business.i94westchamber.org/events/details/aging-in-place-resources-to-help-08-04-2014-1161
END:VEVENT

END:VCALENDAR
