BEGIN:VCALENDAR
VERSION:2.0
PRODID:-//ChamberMaster//Event Calendar 2.0//EN
METHOD:PUBLISH
X-PUBLISHED-TTL:P3D
REFRESH-INTERVAL:P3D
CALSCALE:GREGORIAN
BEGIN:VEVENT
DTSTART:20150716T200000Z
DTEND:20150717T000000Z
X-MICROSOFT-CDO-ALLDAYEVENT:FALSE
SUMMARY:Albertville Farmers Market
DESCRIPTION:More than 25 vendors from Albertville and the surrounding area offer their products for sale at the market. The market is a great opportunity for area residents to get fresh produce from local growers and also offers a variety of food related products. The Albertville Farmer's Market customers are able to shop under a covered shelter out of the rain and in the shade.
X-ALT-DESC;FMTTYPE=text/html:More than 25 vendors from Albertville and the surrounding area offer their products for sale at the market. The market is a great opportunity for area residents to get fresh produce from local growers and also offers a variety of food related products. The Albertville Farmer&rsquo\;s Market customers are able to shop under a covered shelter out of the rain and in the shade.
LOCATION:Lions Shelter in Central Park just off Main Avenue NE in downtown Albertville
UID:e.1321.1637
SEQUENCE:3
DTSTAMP:20260422T154614Z
URL:https://business.i94westchamber.org/events/details/albertville-farmers-market-07-16-2015-1637
END:VEVENT

END:VCALENDAR
