BEGIN:VCALENDAR
VERSION:2.0
PRODID:-//ChamberMaster//Event Calendar 2.0//EN
METHOD:PUBLISH
X-PUBLISHED-TTL:P3D
REFRESH-INTERVAL:P3D
CALSCALE:GREGORIAN
BEGIN:VEVENT
DTSTART;VALUE=DATE:20130605
DTEND;VALUE=DATE:20130610
TRANSP:TRANSPARENT
X-MICROSOFT-CDO-ALLDAYEVENT:TRUE
SUMMARY:Albertville Friendly City Days
DESCRIPTION:Albertville Friendly City Days\n\n\n\nCelebrate the start of Summer!\n\n\n\nHow about 5 days of Fun! Thousands of people will gather\, in Albertville\, June 5-9th to enjoy one of the areas funnest events. There will be something for all ages at Friendly City Days. For the sports fanatic there is Softball\, Volleyball\, Hockey\, and a 5K Run. There will be live music featuring Country\, Rock n Roll\, and Old Time. There will be a Carnival\, Activities for the kids\, a Parade\, and of course Fireworks. No great weekend is complete without Food. There will plenty to choose from including all that great Fair food. Friendly City Days is a great way to start the Summer. Albertville is a great place to meet your neighbor and reunite with old friends.\n\n\n\nFor a complete Event Schedule visit the website link above.
X-ALT-DESC;FMTTYPE=text/html:<span style="font-size:22px\;"><span style="font-family: arial\;"><strong>Albertville Friendly City Days</strong></span></span><br />\n<br />\n<strong><span style="font-size:14px\;"><span style="font-family: arial\;">Celebrate the start of Summer!</span></span></strong><br />\n<br />\n<font color="#333333" face="Verdana" size="-2"><font color="#333333" face="Arial" size="2">How about 5 days of Fun! Thousands of people will gather\, in Albertville\, June 5-9th to enjoy one of the areas funnest events. There will be something for all ages at Friendly City Days. For the sports fanatic there is Softball\, Volleyball\, Hockey\, and a 5K Run. There will be live music featuring Country\, Rock n Roll\, and Old Time. There will be a Carnival\, Activities for the kids\, a Parade\, and of course Fireworks. No great weekend is complete without Food. There will plenty to choose from including all that great Fair food. Friendly City Days is a great way to start the Summer. Albertville is a great place to meet your neighbor and reunite with old friends.<br />\n<br />\nFor a complete Event Schedule<font size="2"> visit the website li<font size="2"><font size="2">nk</font> above.</font></font></font></font><br />\n<br />\n<br />\n
LOCATION:Albertville\, Minnesota
UID:e.1321.953
SEQUENCE:3
DTSTAMP:20260425T140410Z
URL:https://business.i94westchamber.org/events/details/albertville-friendly-city-days-06-05-2013-953
END:VEVENT

END:VCALENDAR
