BEGIN:VCALENDAR
VERSION:2.0
PRODID:-//ChamberMaster//Event Calendar 2.0//EN
METHOD:PUBLISH
X-PUBLISHED-TTL:P3D
REFRESH-INTERVAL:P3D
CALSCALE:GREGORIAN
BEGIN:VEVENT
DTSTART:20150411T150000Z
DTEND:20150411T190000Z
X-MICROSOFT-CDO-ALLDAYEVENT:FALSE
SUMMARY:Albertville Premium Outlets 15 Year Anniversary Celebration
DESCRIPTION:Albertville Premium Outlets is celebrating not five\, not ten\, but 15 amazing years of outstanding brands\, unbeatable deals\, and extraordinary savings. VIP Shoppers will have free entry to the VIP Lounge where they can enter to win a $1000 shopping spree\, perfect for anyone looking to update their summer wardrobe. Not a VIP Shopper? It?s not too late! Sign up for free today at www.premiumoutlets.com/vip/ to receive ultra exclusive online coupons\, a voucher for a free VIP Coupon Book\, details on other deals around town\, insider info from your favorite brands and email updates on sales and other special events.
X-ALT-DESC;FMTTYPE=text/html:Albertville Premium Outlets is celebrating not five\, not ten\, but 15 amazing years of outstanding brands\, unbeatable deals\, and extraordinary savings. VIP Shoppers will have free entry to the VIP Lounge where they can enter to win a $1000 shopping spree\, perfect for anyone looking to update their summer wardrobe. Not a VIP Shopper? It?s not too late! Sign up for free today at www.premiumoutlets.com/vip/ to receive ultra exclusive online coupons\, a voucher for a free VIP Coupon Book\, details on other deals around town\, insider info from your favorite brands and email updates on sales and other special events.
LOCATION:Albertville Premium Outlets In The Promenade\, Suite E110 6415 Labeaux Ave NE\, Albertville\, MN 55301
UID:e.1321.1529
SEQUENCE:3
DTSTAMP:20260422T200535Z
URL:https://business.i94westchamber.org/events/details/albertville-premium-outlets-15-year-anniversary-celebration-04-11-2015-1529
END:VEVENT

END:VCALENDAR
