BEGIN:VCALENDAR
VERSION:2.0
PRODID:-//ChamberMaster//Event Calendar 2.0//EN
METHOD:PUBLISH
X-PUBLISHED-TTL:P3D
REFRESH-INTERVAL:P3D
CALSCALE:GREGORIAN
BEGIN:VEVENT
DTSTART:20151203T173000Z
DTEND:20151203T183000Z
X-MICROSOFT-CDO-ALLDAYEVENT:FALSE
SUMMARY:Alkire Symposium on International Business and Economics
DESCRIPTION:Developing a Global Mindset: As Dorothy said\, ?We?re not in Kansas anymore.? ABOUT THIS YEAR'S SYMPOSIUM A global mindset is a key to success when marketing products outside the United States or working with individuals or leading a team from other countries or regions. Michael Podolinksy ?77\, Certified Speaking Professional (CSP)\, will help us broaden our current mindset as Minnesotans who come from the second most ethnocentric country in the world. We will also examine the B.E.S.T. approach to culture and how to work in harmony with people from different countries speaking thousands of languages and dialects.
X-ALT-DESC;FMTTYPE=text/html:Developing a Global Mindset: As Dorothy said\, ?We?re not in Kansas anymore.? ABOUT THIS YEAR&#39\;S SYMPOSIUM A global mindset is a key to success when marketing products outside the United States or working with individuals or leading a team from other countries or regions. Michael Podolinksy ?77\, Certified Speaking Professional (CSP)\, will help us broaden our current mindset as Minnesotans who come from the second most ethnocentric country in the world. We will also examine the B.E.S.T. approach to culture and how to work in harmony with people from different countries speaking thousands of languages and dialects.
LOCATION:Hamline University\, Sundin Music Hall (Lecture)
UID:e.1321.1810
SEQUENCE:3
DTSTAMP:20260422T085528Z
URL:https://business.i94westchamber.org/events/details/alkire-symposium-on-international-business-and-economics-12-03-2015-1810
END:VEVENT

END:VCALENDAR
