BEGIN:VCALENDAR
VERSION:2.0
PRODID:-//ChamberMaster//Event Calendar 2.0//EN
METHOD:PUBLISH
X-PUBLISHED-TTL:P3D
REFRESH-INTERVAL:P3D
CALSCALE:GREGORIAN
BEGIN:VEVENT
DTSTART:20141221T160000Z
DTEND:20141221T171500Z
X-MICROSOFT-CDO-ALLDAYEVENT:FALSE
SUMMARY:All Youth Church Advent/Christmas Pageant
DESCRIPTION:This All Youth Pageant will inspire and prepare you for the "real reason for the season! " The Sunday School children as well as the Junior and Senior High kids will act and sing about the events leading up to Christ's birth. Come and participate in this unique expression of preparing for the Christ Child in this wonderful pageant: Comfort and Joy. All are invited regardless of church affiliation or denomination.
X-ALT-DESC;FMTTYPE=text/html:This All Youth Pageant will inspire and prepare you for the &quot\;real reason for the season! &quot\; The Sunday School children as well as the Junior and Senior High kids will act and sing about the events leading up to Christ&#39\;s birth. Come and participate in this unique expression of preparing for the Christ Child in this wonderful pageant: Comfort and Joy. All are invited regardless of church affiliation or denomination.
LOCATION:Holy Trinity Episcopal Church 1326 4th Street NW Elk River\, MN 55330
UID:e.1321.1368
SEQUENCE:3
DTSTAMP:20260424T125552Z
URL:https://business.i94westchamber.org/events/details/all-youth-church-advent-christmas-pageant-12-21-2014-1368
END:VEVENT

END:VCALENDAR
