BEGIN:VCALENDAR
VERSION:2.0
PRODID:-//ChamberMaster//Event Calendar 2.0//EN
METHOD:PUBLISH
X-PUBLISHED-TTL:P3D
REFRESH-INTERVAL:P3D
CALSCALE:GREGORIAN
BEGIN:VEVENT
DTSTART:20160106T140000Z
DTEND:20160106T150000Z
X-MICROSOFT-CDO-ALLDAYEVENT:FALSE
SUMMARY:Ambassador Meeting
DESCRIPTION:The mission of the Ambassador Committee is to serve as a direct representative of the chamber\, fostering growth and goodwill by engaging the business community.\n\n\n\nFor more information contact:\n\nPamela Simonson                                Jaimie Larson\n\nAmbassador Co- Chair                          Ambassador Co- Chair\n\n763-428-1998                                       763-497-8742\n\nPSimonson@MaryKay.com                   JaimieL@jetedge.com
X-ALT-DESC;FMTTYPE=text/html:The mission of the Ambassador Committee is to serve as a direct representative of the chamber\, fostering growth and goodwill by engaging the business community.<br />\n<br />\nFor more information contact:<br />\nPamela Simonson&nbsp\;&nbsp\;&nbsp\;&nbsp\;&nbsp\;&nbsp\;&nbsp\;&nbsp\;&nbsp\;&nbsp\;&nbsp\;&nbsp\;&nbsp\;&nbsp\;&nbsp\;&nbsp\;&nbsp\;&nbsp\;&nbsp\;&nbsp\;&nbsp\;&nbsp\;&nbsp\;&nbsp\;&nbsp\;&nbsp\;&nbsp\;&nbsp\;&nbsp\;&nbsp\;&nbsp\; Jaimie Larson<br />\nAmbassador Co- Chair&nbsp\;&nbsp\;&nbsp\;&nbsp\;&nbsp\;&nbsp\;&nbsp\;&nbsp\;&nbsp\;&nbsp\;&nbsp\;&nbsp\;&nbsp\;&nbsp\;&nbsp\;&nbsp\;&nbsp\;&nbsp\;&nbsp\;&nbsp\;&nbsp\;&nbsp\;&nbsp\;&nbsp\;&nbsp\; Ambassador Co- Chair<br />\n763-428-1998&nbsp\;&nbsp\;&nbsp\;&nbsp\;&nbsp\;&nbsp\;&nbsp\;&nbsp\;&nbsp\;&nbsp\;&nbsp\;&nbsp\;&nbsp\;&nbsp\;&nbsp\;&nbsp\;&nbsp\;&nbsp\;&nbsp\;&nbsp\;&nbsp\;&nbsp\;&nbsp\;&nbsp\;&nbsp\;&nbsp\;&nbsp\;&nbsp\;&nbsp\;&nbsp\;&nbsp\;&nbsp\;&nbsp\;&nbsp\;&nbsp\;&nbsp\;&nbsp\;&nbsp\; 763-497-8742<br />\nPSimonson@MaryKay.com&nbsp\;&nbsp\;&nbsp\;&nbsp\;&nbsp\;&nbsp\;&nbsp\;&nbsp\;&nbsp\;&nbsp\;&nbsp\;&nbsp\;&nbsp\;&nbsp\;&nbsp\;&nbsp\;&nbsp\;&nbsp\; JaimieL@jetedge.com
LOCATION:Chamber Office in Rogers
UID:e.1321.1588
SEQUENCE:3
DTSTAMP:20260422T065841Z
URL:https://business.i94westchamber.org/events/details/ambassador-meeting-01-06-2016-1588
END:VEVENT

END:VCALENDAR
