BEGIN:VCALENDAR
VERSION:2.0
PRODID:-//ChamberMaster//Event Calendar 2.0//EN
METHOD:PUBLISH
X-PUBLISHED-TTL:P3D
REFRESH-INTERVAL:P3D
CALSCALE:GREGORIAN
BEGIN:VEVENT
DTSTART:20150310T203000Z
DTEND:20150310T213000Z
X-MICROSOFT-CDO-ALLDAYEVENT:FALSE
SUMMARY:Ambassador Meeting
DESCRIPTION:The mission of the Ambassador Committee is to serve as a direct representative of the chamber\, fostering growth and goodwill by engaging the business community.
X-ALT-DESC;FMTTYPE=text/html:The mission of the Ambassador Committee is to serve as a direct representative of the chamber\, fostering growth and goodwill by engaging the business community.
LOCATION:Chamber Office in Rogers
UID:e.1321.1206
SEQUENCE:3
DTSTAMP:20260424T083428Z
URL:https://business.i94westchamber.org/events/details/ambassador-meeting-03-10-2015-1206
END:VEVENT

END:VCALENDAR
