BEGIN:VCALENDAR
VERSION:2.0
PRODID:-//ChamberMaster//Event Calendar 2.0//EN
METHOD:PUBLISH
X-PUBLISHED-TTL:P3D
REFRESH-INTERVAL:P3D
CALSCALE:GREGORIAN
BEGIN:VEVENT
DTSTART:20170104T140000Z
DTEND:20170104T150000Z
X-MICROSOFT-CDO-ALLDAYEVENT:FALSE
SUMMARY:Ambassador Meeting - All are welcome
DESCRIPTION:Chamber Ambassadors are volunteers that serve on welcome committees\, help with membership campaigns and act as public relations liaisons related to networking/social events sponsored by the chamber.\n\n\n\nYou are welcome to join us and learn more about the program.
X-ALT-DESC;FMTTYPE=text/html:Chamber Ambassadors are volunteers that serve on welcome committees\, help with membership campaigns and act as public relations liaisons related to networking/social events sponsored by the chamber.<br />\n<br />\nYou are welcome to join us and learn more about the program.
LOCATION:21370 John MIlless Drive Rogers\, MN 55374
UID:e.1321.2521
SEQUENCE:3
DTSTAMP:20260421T144143Z
URL:https://business.i94westchamber.org/events/details/ambassador-meeting-all-are-welcome-2521
END:VEVENT

END:VCALENDAR
