BEGIN:VCALENDAR
VERSION:2.0
PRODID:-//ChamberMaster//Event Calendar 2.0//EN
METHOD:PUBLISH
X-PUBLISHED-TTL:P3D
REFRESH-INTERVAL:P3D
CALSCALE:GREGORIAN
BEGIN:VEVENT
DTSTART:20161013T220000Z
DTEND:20161014T020000Z
X-MICROSOFT-CDO-ALLDAYEVENT:FALSE
SUMMARY:Annual Dinner & Silent Auction
DESCRIPTION:Harry Potter "It's a Magical World"\n\nAnnual Dinner & Silent Auction\n\nEntertainment by The Peabody Players\n\n\n\nSOLD OUT!\n\n\n\n\n\nQuidditch Game:\n\nHenningson & Snoxell takes on First National Bank of Elk River\n\n\n\nThank you for your Donations\n\n$25 River Inn Hanover\n\n$50 Cowboy Jack's Otsego\n\n$50 Sakana Sushi & Asian Bistro\n\nHotel Package - Grand Casino (Overnight\, Game Play\, Food)\n\nGift Certs - Christie Cab (5x $10 cab rides)\n\nGift Certs - Atlas Foundation (2x $50 Holiday)\n\nGift Certs - Central Hair Design (2x $20)\n\nMN Cutting Boards - J & B Group\n\nGift Cert - Colonial Jewelers ($25)\n\nGift Certs - Salon Adagio (5x $20)\n\nCustomized Facial - Salon Adagio ($65)\n\nSpa Pedicure - Salon Adagio  ($46)\n\nWestside Liquor - 2 cases of wine\n\nCare Patrol - Wine Box & Glasses\n\nAlbertville Outlet Mall - $100 gift card\n\nAnytime Fitness Hanover - 3 1 month memberships\n\n101 Market - basket\n\nBoondox Bar & Grill (20 $10 gift cards)\n\nWalgreens Basket\n\nMetro Dental Albertville Sonicare\n\nPeabody Players - Tickets & Dinner\n\nHealthsource Rogers basket\n\nMarine Max Inner Tube\n\nClam\n\nAuction masters\n\nMaynards Gift Cards
X-ALT-DESC;FMTTYPE=text/html:Harry Potter &quot\;It&#39\;s a Magical World&quot\;<br />\nAnnual Dinner &amp\; Silent Auction<br />\nEntertainment by The Peabody Players<br />\n<br />\n<span style="font-size:20px\;">SOLD OUT!</span><br />\n<br />\n<br />\n<span style="color:#A52A2A\;"><strong>Quidditch Game:<br />\nHenningson &amp\; Snoxell takes on First National Bank of Elk River</strong></span><br />\n<br />\nThank you for your Donations<br />\n$25 River Inn Hanover<br />\n$50 Cowboy Jack&#39\;s Otsego<br />\n$50 Sakana Sushi &amp\; Asian Bistro<br />\nHotel Package - Grand Casino (Overnight\, Game Play\, Food)<br />\nGift Certs - Christie Cab (5x $10 cab rides)<br />\nGift Certs - Atlas Foundation (2x $50 Holiday)<br />\nGift Certs - Central Hair Design (2x $20)<br />\nMN Cutting Boards - J &amp\; B Group<br />\nGift Cert - Colonial Jewelers ($25)<br />\nGift Certs - Salon Adagio (5x $20)<br />\nCustomized Facial - Salon Adagio ($65)<br />\nSpa Pedicure - Salon Adagio&nbsp\; ($46)<br />\nWestside Liquor - 2 cases of wine<br />\nCare Patrol - Wine Box &amp\; Glasses<br />\nAlbertville Outlet Mall - $100 gift card<br />\nAnytime Fitness Hanover - 3 1 month memberships<br />\n101 Market - basket<br />\nBoondox Bar &amp\; Grill (20 $10 gift cards)<br />\nWalgreens Basket<br />\nMetro Dental Albertville Sonicare<br />\nPeabody Players - Tickets &amp\; Dinner<br />\nHealthsource Rogers basket<br />\nMarine Max Inner Tube<br />\nClam<br />\nAuction masters<br />\nMaynards Gift Cards<br />\n&nbsp\;
LOCATION:The Crowne Room in Rogers
UID:e.1321.1758
SEQUENCE:3
DTSTAMP:20260421T185955Z
URL:https://business.i94westchamber.org/events/details/annual-dinner-silent-auction-10-13-2016-1758
END:VEVENT

END:VCALENDAR
