BEGIN:VCALENDAR
VERSION:2.0
PRODID:-//ChamberMaster//Event Calendar 2.0//EN
METHOD:PUBLISH
X-PUBLISHED-TTL:P3D
REFRESH-INTERVAL:P3D
CALSCALE:GREGORIAN
BEGIN:VEVENT
DTSTART:20141107T220000Z
DTEND:20141108T200000Z
X-MICROSOFT-CDO-ALLDAYEVENT:FALSE
SUMMARY:Annual Holiday/Christmas Bazaar with Crafts and Holiday Baskets
DESCRIPTION:The 36th Annual Regional Holiday Bazaar features holiday baskets\, crafts\, lunch\, gift cards and Silent Auction. Grilled hot dogs and chips will be for sale on Friday afternoon and evening and chili and chicken soup on Saturday.
X-ALT-DESC;FMTTYPE=text/html:The 36th Annual Regional Holiday Bazaar features holiday baskets\, crafts\, lunch\, gift cards and Silent Auction. Grilled hot dogs and chips will be for sale on Friday afternoon and evening and chili and chicken soup on Saturday.
LOCATION:Holy Trinity Episcopal Church and Parish Hall\, 1326 4th Street NW\, Elk River
UID:e.1321.1292
SEQUENCE:3
DTSTAMP:20260424T142005Z
URL:https://business.i94westchamber.org/events/details/annual-holiday-christmas-bazaar-with-crafts-and-holiday-baskets-11-07-2014-1292
END:VEVENT

END:VCALENDAR
