BEGIN:VCALENDAR
VERSION:2.0
PRODID:-//ChamberMaster//Event Calendar 2.0//EN
METHOD:PUBLISH
X-PUBLISHED-TTL:P3D
REFRESH-INTERVAL:P3D
CALSCALE:GREGORIAN
BEGIN:VEVENT
DTSTART:20160115T133000Z
DTEND:20160115T153000Z
X-MICROSOFT-CDO-ALLDAYEVENT:FALSE
SUMMARY:Annual Meeting & Awards Ceremony
DESCRIPTION:David Unmacht is executive director of the League of Minnesota Cities\, a membership organization dedicated to promoting excellence in local government. The League serves its more than 830 member cities through advocacy\, education and training\, policy development\, risk management and other services. It conducts research and analysis that helps contribute to better informed decisions in municipal government including economic development\, and its advocacy efforts help to generate a better economic development environment for the communities where we all live\, work\, and play.
X-ALT-DESC;FMTTYPE=text/html:David Unmacht is executive director of the League of Minnesota Cities\, a membership organization dedicated to promoting excellence in local government. The League serves its more than 830 member cities through advocacy\, education and training\, policy development\, risk management and other services. It conducts research and analysis that helps contribute to better informed decisions in municipal government including economic development\, and its advocacy efforts help to generate a better economic development environment for the communities where we all live\, work\, and play.
LOCATION:Monticello Community Center 505 Walnut ST Monticello MN 55362
UID:e.1321.1833
SEQUENCE:3
DTSTAMP:20260422T082825Z
URL:https://business.i94westchamber.org/events/details/annual-meeting-awards-ceremony-01-15-2016-1833
END:VEVENT

END:VCALENDAR
