BEGIN:VCALENDAR
VERSION:2.0
PRODID:-//ChamberMaster//Event Calendar 2.0//EN
METHOD:PUBLISH
X-PUBLISHED-TTL:P3D
REFRESH-INTERVAL:P3D
CALSCALE:GREGORIAN
BEGIN:VEVENT
DTSTART:20140509T150000Z
DTEND:20140510T220000Z
X-MICROSOFT-CDO-ALLDAYEVENT:FALSE
SUMMARY:Annual Pre-Mother's Day Used Book\, Brat and Bake Sale/Fair
DESCRIPTION:Join us and visit this regional yearly event where you can get a Mother's Day gift for your Mom\, grandmother or favorite aunt. There will be plenty of "real" books - hard cover for a $1.00 and paperbacks for 50 cents. Relax and enjoy a delicious lunch of hot dogs and brats for $1.50 and $2.00 with beverage. There will also be a wide selection of delicious home made baked goods and some crafts. There will be drawings for numerous items including Mother's Day gifts. You don't want to miss this special and unique annual event.
X-ALT-DESC;FMTTYPE=text/html:Join us and visit this regional yearly event where you can get a Mother&#39\;s Day gift for your Mom\, grandmother or favorite aunt. There will be plenty of &quot\;real&quot\; books - hard cover for a $1.00 and paperbacks for 50 cents. Relax and enjoy a delicious lunch of hot dogs and brats for $1.50 and $2.00 with beverage. There will also be a wide selection of delicious home made baked goods and some crafts. There will be drawings for numerous items including Mother&#39\;s Day gifts. You don&#39\;t want to miss this special and unique annual event.
LOCATION:Holy Trinity Episcopal Church 1326 4th Street NW Elk River\, Mn 55330
UID:e.1321.1115
SEQUENCE:3
DTSTAMP:20260424T222315Z
URL:https://business.i94westchamber.org/events/details/annual-pre-mother-s-day-used-book-brat-and-bake-sale-fair-05-09-2014-1115
END:VEVENT

END:VCALENDAR
