BEGIN:VCALENDAR
VERSION:2.0
PRODID:-//ChamberMaster//Event Calendar 2.0//EN
METHOD:PUBLISH
X-PUBLISHED-TTL:P3D
REFRESH-INTERVAL:P3D
CALSCALE:GREGORIAN
BEGIN:VEVENT
DTSTART;VALUE=DATE:20130507
DTEND;VALUE=DATE:20130510
TRANSP:TRANSPARENT
X-MICROSOFT-CDO-ALLDAYEVENT:TRUE
SUMMARY:ANYTIME FITNESS 3 DAYS ONLY SALE
DESCRIPTION:JOIN FOR $1.00 PLUS 1 MONTH FREE\n\n3 DAYS ONLY!  MAY 7-9\n\nGET IN A WORKOUT.  GET ON WITH SUMMER!\n\nREFER A FRIEND AND YOU BOTH GET 1 MONTH FREE!!
X-ALT-DESC;FMTTYPE=text/html:JOIN FOR $1.00 PLUS 1 MONTH FREE<br />\n3 DAYS ONLY!&nbsp\; MAY 7-9<br />\nGET IN A WORKOUT.&nbsp\; GET ON WITH SUMMER!<br />\nREFER A FRIEND AND YOU BOTH GET 1 MONTH FREE!!
LOCATION:14141 Northdale Blvd\, Rogers
UID:e.1321.943
SEQUENCE:3
DTSTAMP:20260425T153214Z
URL:https://business.i94westchamber.org/events/details/anytime-fitness-3-days-only-sale-05-07-2013-943
END:VEVENT

END:VCALENDAR
