BEGIN:VCALENDAR
VERSION:2.0
PRODID:-//ChamberMaster//Event Calendar 2.0//EN
METHOD:PUBLISH
X-PUBLISHED-TTL:P3D
REFRESH-INTERVAL:P3D
CALSCALE:GREGORIAN
BEGIN:VEVENT
DTSTART:20141120T193000Z
DTEND:20141120T210000Z
X-MICROSOFT-CDO-ALLDAYEVENT:FALSE
SUMMARY:Art for Life: Pop Art Acrylic Painting
DESCRIPTION:For adults 55+. Learn about Andy Warhol\, pop art and the color wheel by painting an acrylic masterpiece. Materials provided.\n\nThis project is funded with money from Minnesota's Arts and Cultural Heritage Fund.\n\nPresented in collaboration with ArtsySmartsy .
X-ALT-DESC;FMTTYPE=text/html:For adults 55+. Learn about Andy Warhol\, pop art and the color wheel by painting an acrylic masterpiece. Materials provided.<br />\n<em>This project is funded with money from Minnesota&#39\;s Arts and Cultural Heritage Fund.<br />\nPresented in collaboration with ArtsySmartsy .</em>
LOCATION:Rogers Library 21300 John Milless Dr Rogers\, MN
UID:e.1321.1270
SEQUENCE:3
DTSTAMP:20260424T141831Z
URL:https://business.i94westchamber.org/events/details/art-for-life-pop-art-acrylic-painting-11-20-2014-1270
END:VEVENT

END:VCALENDAR
