BEGIN:VCALENDAR
VERSION:2.0
PRODID:-//ChamberMaster//Event Calendar 2.0//EN
METHOD:PUBLISH
X-PUBLISHED-TTL:P3D
REFRESH-INTERVAL:P3D
CALSCALE:GREGORIAN
BEGIN:VEVENT
DTSTART:20150522T153000Z
DTEND:20150522T170000Z
X-MICROSOFT-CDO-ALLDAYEVENT:FALSE
SUMMARY:Art for Life - Watercolor Birch Tree Painting
DESCRIPTION:Even the most novice artist will leave with a fantastic birch tree painting\, inspired by American artist Bev Doolitle. Materials provided.
X-ALT-DESC;FMTTYPE=text/html:Even the most novice artist will leave with a fantastic birch tree painting\, inspired by American artist Bev Doolitle. Materials provided.
LOCATION:Rogers Library 21300 John Milless Dr. Rogers \, MN 55374 612-543-6050
UID:e.1321.1388
SEQUENCE:3
DTSTAMP:20260422T184052Z
URL:https://business.i94westchamber.org/events/details/art-for-life-watercolor-birch-tree-painting-05-22-2015-1388
END:VEVENT

END:VCALENDAR
