BEGIN:VCALENDAR
VERSION:2.0
PRODID:-//ChamberMaster//Event Calendar 2.0//EN
METHOD:PUBLISH
X-PUBLISHED-TTL:P3D
REFRESH-INTERVAL:P3D
CALSCALE:GREGORIAN
BEGIN:VEVENT
DTSTART:20141206T000000Z
DTEND:20141206T020000Z
X-MICROSOFT-CDO-ALLDAYEVENT:FALSE
SUMMARY:Artisan Salon & Spa Ladies Night
DESCRIPTION:A night dedicated to the ladies of the STMA Community. Come out and see what Artisan Salon & Spa has to offer!\n\nWith 10 years under our belt we want to Celebrate with you!\n\nMini Services\, Free Products and Discounts\n\nFace Mapping\n\nVendors\, and Speakers\, (psst\, includes a Trunk show)\n\nFood\, Wine\n\nDrawings and PRIZES
X-ALT-DESC;FMTTYPE=text/html:<span class="fsl">A night dedicated to the ladies of the STMA Community. Come out and see what Artisan Salon &amp\; Spa has to offer!<br />\nWith 10 years under our belt we want to Celebrate with you!<br />\nMini Services\, Free Products and Discounts<br />\nFace Mapping<br />\nVendors\, and Speakers\, (psst\, includes a Trunk show)<br />\nFood\, Wine<br />\nDrawings and PRIZES</span>
LOCATION:
UID:e.1321.1242
SEQUENCE:3
DTSTAMP:20260424T130125Z
URL:https://business.i94westchamber.org/events/details/artisan-salon-spa-ladies-night-12-05-2014-1242
END:VEVENT

END:VCALENDAR
