BEGIN:VCALENDAR
VERSION:2.0
PRODID:-//ChamberMaster//Event Calendar 2.0//EN
METHOD:PUBLISH
X-PUBLISHED-TTL:P3D
REFRESH-INTERVAL:P3D
CALSCALE:GREGORIAN
BEGIN:VEVENT
DTSTART:20150418T160000Z
DTEND:20150418T173000Z
X-MICROSOFT-CDO-ALLDAYEVENT:FALSE
SUMMARY:Author Talk at Rogers Library
DESCRIPTION:Author Richard Gist will talk about his book.  Books will be available for purchase.
X-ALT-DESC;FMTTYPE=text/html:Author Richard Gist will talk about his book.&nbsp\; Books will be available for purchase.
LOCATION:With a Yes and a Yippee explores both the inner and outer worlds of a boy growing up in a small\, insulated\, Mid-western town during one of America's most trying and tear stained periods. People were inching themselves out of the Great Depression\, and inexorably edging towards the precipice of a planet at war. Yet\, inexplicably\, for those too young and innocent to recognize a world struggling to hold itself together\, life was good\, even blessed. The book takes the reader by skips and jumps from the author's miraculous conception (they all are) to the day\, at the age of seventeen\, he left home to enter the United States Air Force.
UID:e.1321.1383
SEQUENCE:3
DTSTAMP:20260422T195532Z
URL:https://business.i94westchamber.org/events/details/author-talk-at-rogers-library-04-18-2015-1383
END:VEVENT

END:VCALENDAR
