BEGIN:VCALENDAR
VERSION:2.0
PRODID:-//ChamberMaster//Event Calendar 2.0//EN
METHOD:PUBLISH
X-PUBLISHED-TTL:P3D
REFRESH-INTERVAL:P3D
CALSCALE:GREGORIAN
BEGIN:VEVENT
DTSTART:20170415T153000Z
DTEND:20170415T170000Z
X-MICROSOFT-CDO-ALLDAYEVENT:FALSE
SUMMARY:Author Talk: Judy McConnell
DESCRIPTION:Author McConnell will read from and discuss her latest book\, "Just Keep Shooting: My Youth in Manhattan - Memoir of a Midwestern Girl in the 1950s and 1960s."
X-ALT-DESC;FMTTYPE=text/html:Author McConnell will read from and discuss her latest book\, &quot\;<em>Just Keep Shooting: My Youth in Manhattan - Memoir of a Midwestern Girl in the 1950s and 1960s.&quot\;</em>
LOCATION:Rogers Library
UID:e.1321.2916
SEQUENCE:3
DTSTAMP:20260421T103402Z
URL:https://business.i94westchamber.org/events/details/author-talk-judy-mcconnell-2916
END:VEVENT

END:VCALENDAR
