BEGIN:VCALENDAR
VERSION:2.0
PRODID:-//ChamberMaster//Event Calendar 2.0//EN
METHOD:PUBLISH
X-PUBLISHED-TTL:P3D
REFRESH-INTERVAL:P3D
CALSCALE:GREGORIAN
BEGIN:VEVENT
DTSTART:20160809T160000Z
DTEND:20160809T200000Z
X-MICROSOFT-CDO-ALLDAYEVENT:FALSE
SUMMARY:Award Staffing Career Fair
DESCRIPTION:Visit us between 11am-3pm to apply for any of our openings and receive\n\n10% your lunch bill at Boondox* \n\n\nOpportunities Include:\n\n\n	Cooks & Hospitality\n	Professional / Office Positions\n	Lead Machine Operators\n	Production / Warehouse Positions\n\n\n\n\n\n*Coupon good for the day of the event- 08/09/16.
X-ALT-DESC;FMTTYPE=text/html:<div style="text-align: center\;"><span style="font-size:18px"><strong>Visit us&nbsp\;between 11am-3pm to apply for any of our openings and receive<br />\n10% your lunch bill at Boondox*&nbsp\;</strong></span></div>\n<br />\n<span style="font-size:18px"><u><strong>Opportunities Include:</strong></u></span>\n\n<ul>\n	<li><span style="font-size:18px">Cooks &amp\; Hospitality</span></li>\n	<li><span style="font-size:18px">Professional / Office Positions</span></li>\n	<li><span style="font-size:18px">Lead Machine Operators</span></li>\n	<li><span style="font-size:18px">Production / Warehouse Positions</span></li>\n</ul>\n<br />\n<br />\n*Coupon&nbsp\;good for the day of the event- 08/09/16.
LOCATION:BOONDOX Bar and Grille 9100 Park Ave NE Otsego\, MN 55330
UID:e.1321.2002
SEQUENCE:3
DTSTAMP:20260421T213634Z
URL:https://business.i94westchamber.org/events/details/award-staffing-career-fair-08-09-2016-2002
END:VEVENT

END:VCALENDAR
