BEGIN:VCALENDAR
VERSION:2.0
PRODID:-//ChamberMaster//Event Calendar 2.0//EN
METHOD:PUBLISH
X-PUBLISHED-TTL:P3D
REFRESH-INTERVAL:P3D
CALSCALE:GREGORIAN
BEGIN:VEVENT
DTSTART:20170321T143000Z
DTEND:20170321T150000Z
X-MICROSOFT-CDO-ALLDAYEVENT:FALSE
SUMMARY:Baby Storytime
DESCRIPTION:For children from birth to 24 months and their parent or caregiver. Talk\, sing\, read\, write and play together in a format designed especially for babies. Share books\, stories\, rhymes\, music and movement.
X-ALT-DESC;FMTTYPE=text/html:For children from birth to 24 months and their parent or caregiver. Talk\, sing\, read\, write and play together in a format designed especially for babies. Share books\, stories\, rhymes\, music and movement.
LOCATION:Rogers Library
UID:e.1321.2634
SEQUENCE:3
DTSTAMP:20260421T130127Z
URL:https://business.i94westchamber.org/events/details/baby-storytime-03-21-2017-2634
END:VEVENT

END:VCALENDAR
