BEGIN:VCALENDAR
VERSION:2.0
PRODID:-//ChamberMaster//Event Calendar 2.0//EN
METHOD:PUBLISH
X-PUBLISHED-TTL:P3D
REFRESH-INTERVAL:P3D
CALSCALE:GREGORIAN
BEGIN:VEVENT
DTSTART:20150428T143000Z
DTEND:20150428T153000Z
X-MICROSOFT-CDO-ALLDAYEVENT:FALSE
SUMMARY:Baby Storytime
DESCRIPTION:For children from birth to 24 months and their parent or caregiver. Talk\, sing\, read\, write and play together in a format designed especially for babies. Share books\, stories\, rhymes\, music and movement.
X-ALT-DESC;FMTTYPE=text/html:<span style="font-family:calibri\,sans-serif\;"><span style="font-size:11.0pt\;">For children from birth to 24 months and their parent or caregiver. Talk\, sing\, read\, write and play together in a format designed especially for babies. Share books\, stories\, rhymes\, music and movement. </span></span>
LOCATION:Rogers Library 21300 John Milless Dr. Rogers\, MN 55374
UID:e.1321.1466
SEQUENCE:3
DTSTAMP:20260422T200234Z
URL:https://business.i94westchamber.org/events/details/baby-storytime-04-28-2015-1466
END:VEVENT

END:VCALENDAR
