BEGIN:VCALENDAR
VERSION:2.0
PRODID:-//ChamberMaster//Event Calendar 2.0//EN
METHOD:PUBLISH
X-PUBLISHED-TTL:P3D
REFRESH-INTERVAL:P3D
CALSCALE:GREGORIAN
BEGIN:VEVENT
DTSTART:20170307T153000Z
DTEND:20170307T160000Z
X-MICROSOFT-CDO-ALLDAYEVENT:FALSE
SUMMARY:Baby Storytime
DESCRIPTION:For children from birth to 24 months and their parent or caregiver. Talk\, sing\, read\, write and play together in a format designed especially for babies. Share books\, stories\, rhymes\, music and movement.
X-ALT-DESC;FMTTYPE=text/html:For children from birth to 24 months and their parent or caregiver. Talk\, sing\, read\, write and play together in a format designed especially for babies. Share books\, stories\, rhymes\, music and movement.
LOCATION:Rogers Library
UID:e.1321.2632
SEQUENCE:3
DTSTAMP:20260421T125958Z
URL:https://business.i94westchamber.org/events/details/baby-storytime-2632
END:VEVENT

END:VCALENDAR
